BEGIN:VCALENDAR
VERSION:2.0
PRODID:-//Feiertagskalender.org//Feiertagskalender 1.0//DE
CALSCALE:GREGORIAN
METHOD:PUBLISH
X-WR-CALNAME:School holidays in Bremen 2023
X-WR-TIMEZONE:Europe/Berlin
BEGIN:VEVENT
DTSTART;VALUE=DATE:20230130
DTEND;VALUE=DATE:20230131
DTSTAMP:20260425T211314Z
UID:FEIERTAGSKALENDER.FERIEN0000002506
CREATED:20260425T211314Z
DESCRIPTION:http://feiertagskalender.org/en/schoolholidays/de-hb/2023/
LAST-MODIFIED:20260425T211314Z
LOCATION:Bremen
SEQUENCE:0
STATUS:CONFIRMED
SUMMARY:Winter holidays Bremen
TRANSP:TRANSPARENT
END:VEVENT
BEGIN:VEVENT
DTSTART;VALUE=DATE:20230327
DTEND;VALUE=DATE:20230411
DTSTAMP:20260425T211314Z
UID:FEIERTAGSKALENDER.FERIEN0000002507
CREATED:20260425T211314Z
DESCRIPTION:http://feiertagskalender.org/en/schoolholidays/de-hb/2023/
LAST-MODIFIED:20260425T211314Z
LOCATION:Bremen
SEQUENCE:0
STATUS:CONFIRMED
SUMMARY:Easter holidays Bremen
TRANSP:TRANSPARENT
END:VEVENT
BEGIN:VEVENT
DTSTART;VALUE=DATE:20230706
DTEND;VALUE=DATE:20230816
DTSTAMP:20260425T211314Z
UID:FEIERTAGSKALENDER.FERIEN0000002509
CREATED:20260425T211314Z
DESCRIPTION:http://feiertagskalender.org/en/schoolholidays/de-hb/2023/
LAST-MODIFIED:20260425T211314Z
LOCATION:Bremen
SEQUENCE:0
STATUS:CONFIRMED
SUMMARY:Summer holidays Bremen
TRANSP:TRANSPARENT
END:VEVENT
BEGIN:VEVENT
DTSTART;VALUE=DATE:20231223
DTEND;VALUE=DATE:20240105
DTSTAMP:20260425T211314Z
UID:FEIERTAGSKALENDER.FERIEN0000002511
CREATED:20260425T211314Z
DESCRIPTION:http://feiertagskalender.org/en/schoolholidays/de-hb/2023/
LAST-MODIFIED:20260425T211314Z
LOCATION:Bremen
SEQUENCE:0
STATUS:CONFIRMED
SUMMARY:Christmas holidays Bremen
TRANSP:TRANSPARENT
END:VEVENT
END:VCALENDAR