BEGIN:VCALENDAR
VERSION:2.0
PRODID:-//Feiertagskalender.org//Feiertagskalender 1.0//DE
CALSCALE:GREGORIAN
METHOD:PUBLISH
X-WR-CALNAME:School holidays in Bavaria 2026
X-WR-TIMEZONE:Europe/Berlin
BEGIN:VEVENT
DTSTART;VALUE=DATE:20260216
DTEND;VALUE=DATE:20260220
DTSTAMP:20260420T105823Z
UID:FEIERTAGSKALENDER.FERIEN0000002776
CREATED:20260420T105823Z
DESCRIPTION:http://feiertagskalender.org/en/schoolholidays/de-by/2026/
LAST-MODIFIED:20260420T105823Z
LOCATION:Bavaria
SEQUENCE:0
STATUS:CONFIRMED
SUMMARY:Winter holidays Bavaria
TRANSP:TRANSPARENT
END:VEVENT
BEGIN:VEVENT
DTSTART;VALUE=DATE:20260330
DTEND;VALUE=DATE:20260410
DTSTAMP:20260420T105823Z
UID:FEIERTAGSKALENDER.FERIEN0000002777
CREATED:20260420T105823Z
DESCRIPTION:http://feiertagskalender.org/en/schoolholidays/de-by/2026/
LAST-MODIFIED:20260420T105823Z
LOCATION:Bavaria
SEQUENCE:0
STATUS:CONFIRMED
SUMMARY:Easter holidays Bavaria
TRANSP:TRANSPARENT
END:VEVENT
BEGIN:VEVENT
DTSTART;VALUE=DATE:20260526
DTEND;VALUE=DATE:20260605
DTSTAMP:20260420T105823Z
UID:FEIERTAGSKALENDER.FERIEN0000002778
CREATED:20260420T105823Z
DESCRIPTION:http://feiertagskalender.org/en/schoolholidays/de-by/2026/
LAST-MODIFIED:20260420T105823Z
LOCATION:Bavaria
SEQUENCE:0
STATUS:CONFIRMED
SUMMARY:Whitsun holidays Bavaria
TRANSP:TRANSPARENT
END:VEVENT
BEGIN:VEVENT
DTSTART;VALUE=DATE:20260803
DTEND;VALUE=DATE:20260914
DTSTAMP:20260420T105823Z
UID:FEIERTAGSKALENDER.FERIEN0000002779
CREATED:20260420T105823Z
DESCRIPTION:http://feiertagskalender.org/en/schoolholidays/de-by/2026/
LAST-MODIFIED:20260420T105823Z
LOCATION:Bavaria
SEQUENCE:0
STATUS:CONFIRMED
SUMMARY:Summer holidays Bavaria
TRANSP:TRANSPARENT
END:VEVENT
BEGIN:VEVENT
DTSTART;VALUE=DATE:20261224
DTEND;VALUE=DATE:20270108
DTSTAMP:20260420T105823Z
UID:FEIERTAGSKALENDER.FERIEN0000002781
CREATED:20260420T105823Z
DESCRIPTION:http://feiertagskalender.org/en/schoolholidays/de-by/2026/
LAST-MODIFIED:20260420T105823Z
LOCATION:Bavaria
SEQUENCE:0
STATUS:CONFIRMED
SUMMARY:Christmas holidays Bavaria
TRANSP:TRANSPARENT
END:VEVENT
END:VCALENDAR