BEGIN:VCALENDAR
VERSION:2.0
PRODID:-//Feiertagskalender.org//Feiertagskalender 1.0//DE
CALSCALE:GREGORIAN
METHOD:PUBLISH
X-WR-CALNAME:School holidays in Baden-Württemberg 2022
X-WR-TIMEZONE:Europe/Berlin
BEGIN:VEVENT
DTSTART;VALUE=DATE:20220607
DTEND;VALUE=DATE:20220618
DTSTAMP:20260425T220148Z
UID:FEIERTAGSKALENDER.FERIEN0000002388
CREATED:20260425T220148Z
DESCRIPTION:http://feiertagskalender.org/en/schoolholidays/de-bw/2022/
LAST-MODIFIED:20260425T220148Z
LOCATION:Baden-Württemberg
SEQUENCE:0
STATUS:CONFIRMED
SUMMARY:Whitsun holidays Baden-Württemberg
TRANSP:TRANSPARENT
END:VEVENT
BEGIN:VEVENT
DTSTART;VALUE=DATE:20220728
DTEND;VALUE=DATE:20220910
DTSTAMP:20260425T220148Z
UID:FEIERTAGSKALENDER.FERIEN0000002389
CREATED:20260425T220148Z
DESCRIPTION:http://feiertagskalender.org/en/schoolholidays/de-bw/2022/
LAST-MODIFIED:20260425T220148Z
LOCATION:Baden-Württemberg
SEQUENCE:0
STATUS:CONFIRMED
SUMMARY:Summer holidays Baden-Württemberg
TRANSP:TRANSPARENT
END:VEVENT
BEGIN:VEVENT
DTSTART;VALUE=DATE:20221221
DTEND;VALUE=DATE:20230107
DTSTAMP:20260425T220148Z
UID:FEIERTAGSKALENDER.FERIEN0000002391
CREATED:20260425T220148Z
DESCRIPTION:http://feiertagskalender.org/en/schoolholidays/de-bw/2022/
LAST-MODIFIED:20260425T220148Z
LOCATION:Baden-Württemberg
SEQUENCE:0
STATUS:CONFIRMED
SUMMARY:Christmas holidays Baden-Württemberg
TRANSP:TRANSPARENT
END:VEVENT
END:VCALENDAR