BEGIN:VCALENDAR
VERSION:2.0
PRODID:-//Feiertagskalender.org//Feiertagskalender 1.0//DE
CALSCALE:GREGORIAN
METHOD:PUBLISH
X-WR-CALNAME:School holidays in Brandenburg 2025
X-WR-TIMEZONE:Europe/Berlin
BEGIN:VEVENT
DTSTART;VALUE=DATE:20250203
DTEND;VALUE=DATE:20250208
DTSTAMP:20260419T170653Z
UID:FEIERTAGSKALENDER.FERIEN0000002692
CREATED:20260419T170653Z
DESCRIPTION:http://feiertagskalender.org/en/schoolholidays/de-bb/2025/
LAST-MODIFIED:20260419T170653Z
LOCATION:Brandenburg
SEQUENCE:0
STATUS:CONFIRMED
SUMMARY:Winter holidays Brandenburg
TRANSP:TRANSPARENT
END:VEVENT
BEGIN:VEVENT
DTSTART;VALUE=DATE:20250610
DTEND;VALUE=DATE:20250610
DTSTAMP:20260419T170653Z
UID:FEIERTAGSKALENDER.FERIEN0000002694
CREATED:20260419T170653Z
DESCRIPTION:http://feiertagskalender.org/en/schoolholidays/de-bb/2025/
LAST-MODIFIED:20260419T170653Z
LOCATION:Brandenburg
SEQUENCE:0
STATUS:CONFIRMED
SUMMARY:Whitsun holidays Brandenburg
TRANSP:TRANSPARENT
END:VEVENT
BEGIN:VEVENT
DTSTART;VALUE=DATE:20250724
DTEND;VALUE=DATE:20250906
DTSTAMP:20260419T170653Z
UID:FEIERTAGSKALENDER.FERIEN0000002695
CREATED:20260419T170653Z
DESCRIPTION:http://feiertagskalender.org/en/schoolholidays/de-bb/2025/
LAST-MODIFIED:20260419T170653Z
LOCATION:Brandenburg
SEQUENCE:0
STATUS:CONFIRMED
SUMMARY:Summer holidays Brandenburg
TRANSP:TRANSPARENT
END:VEVENT
BEGIN:VEVENT
DTSTART;VALUE=DATE:20251020
DTEND;VALUE=DATE:20251101
DTSTAMP:20260419T170653Z
UID:FEIERTAGSKALENDER.FERIEN0000002696
CREATED:20260419T170653Z
DESCRIPTION:http://feiertagskalender.org/en/schoolholidays/de-bb/2025/
LAST-MODIFIED:20260419T170653Z
LOCATION:Brandenburg
SEQUENCE:0
STATUS:CONFIRMED
SUMMARY:Autumn holidays Brandenburg
TRANSP:TRANSPARENT
END:VEVENT
BEGIN:VEVENT
DTSTART;VALUE=DATE:20251222
DTEND;VALUE=DATE:20260102
DTSTAMP:20260419T170653Z
UID:FEIERTAGSKALENDER.FERIEN0000002697
CREATED:20260419T170653Z
DESCRIPTION:http://feiertagskalender.org/en/schoolholidays/de-bb/2025/
LAST-MODIFIED:20260419T170653Z
LOCATION:Brandenburg
SEQUENCE:0
STATUS:CONFIRMED
SUMMARY:Christmas holidays Brandenburg
TRANSP:TRANSPARENT
END:VEVENT
END:VCALENDAR