BEGIN:VCALENDAR
VERSION:2.0
PRODID:-//Feiertagskalender.org//Feiertagskalender 1.0//DE
CALSCALE:GREGORIAN
METHOD:PUBLISH
X-WR-CALNAME:Schulferien in Sachsen-Anhalt 2027
X-WR-TIMEZONE:Europe/Berlin
BEGIN:VEVENT
DTSTART;VALUE=DATE:20270201
DTEND;VALUE=DATE:20270206
DTSTAMP:20260421T184714Z
UID:FEIERTAGSKALENDER.FERIEN0000002944
CREATED:20260421T184714Z
DESCRIPTION:http://feiertagskalender.org/de/ferien/de-st/2027/
LAST-MODIFIED:20260421T184714Z
LOCATION:Sachsen-Anhalt
SEQUENCE:0
STATUS:CONFIRMED
SUMMARY:Winterferien Sachsen-Anhalt
TRANSP:TRANSPARENT
END:VEVENT
BEGIN:VEVENT
DTSTART;VALUE=DATE:20270322
DTEND;VALUE=DATE:20270327
DTSTAMP:20260421T184714Z
UID:FEIERTAGSKALENDER.FERIEN0000002945
CREATED:20260421T184714Z
DESCRIPTION:http://feiertagskalender.org/de/ferien/de-st/2027/
LAST-MODIFIED:20260421T184714Z
LOCATION:Sachsen-Anhalt
SEQUENCE:0
STATUS:CONFIRMED
SUMMARY:Osterferien Sachsen-Anhalt
TRANSP:TRANSPARENT
END:VEVENT
BEGIN:VEVENT
DTSTART;VALUE=DATE:20270515
DTEND;VALUE=DATE:20270522
DTSTAMP:20260421T184714Z
UID:FEIERTAGSKALENDER.FERIEN0000002946
CREATED:20260421T184714Z
DESCRIPTION:http://feiertagskalender.org/de/ferien/de-st/2027/
LAST-MODIFIED:20260421T184714Z
LOCATION:Sachsen-Anhalt
SEQUENCE:0
STATUS:CONFIRMED
SUMMARY:Pfingstferien Sachsen-Anhalt
TRANSP:TRANSPARENT
END:VEVENT
BEGIN:VEVENT
DTSTART;VALUE=DATE:20270710
DTEND;VALUE=DATE:20270820
DTSTAMP:20260421T184714Z
UID:FEIERTAGSKALENDER.FERIEN0000002947
CREATED:20260421T184714Z
DESCRIPTION:http://feiertagskalender.org/de/ferien/de-st/2027/
LAST-MODIFIED:20260421T184714Z
LOCATION:Sachsen-Anhalt
SEQUENCE:0
STATUS:CONFIRMED
SUMMARY:Sommerferien Sachsen-Anhalt
TRANSP:TRANSPARENT
END:VEVENT
BEGIN:VEVENT
DTSTART;VALUE=DATE:20271018
DTEND;VALUE=DATE:20271023
DTSTAMP:20260421T184714Z
UID:FEIERTAGSKALENDER.FERIEN0000002948
CREATED:20260421T184714Z
DESCRIPTION:http://feiertagskalender.org/de/ferien/de-st/2027/
LAST-MODIFIED:20260421T184714Z
LOCATION:Sachsen-Anhalt
SEQUENCE:0
STATUS:CONFIRMED
SUMMARY:Herbstferien Sachsen-Anhalt
TRANSP:TRANSPARENT
END:VEVENT
BEGIN:VEVENT
DTSTART;VALUE=DATE:20271220
DTEND;VALUE=DATE:20271231
DTSTAMP:20260421T184714Z
UID:FEIERTAGSKALENDER.FERIEN0000002949
CREATED:20260421T184714Z
DESCRIPTION:http://feiertagskalender.org/de/ferien/de-st/2027/
LAST-MODIFIED:20260421T184714Z
LOCATION:Sachsen-Anhalt
SEQUENCE:0
STATUS:CONFIRMED
SUMMARY:Weihnachtsferien Sachsen-Anhalt
TRANSP:TRANSPARENT
END:VEVENT
END:VCALENDAR