BEGIN:VCALENDAR
VERSION:2.0
PRODID:-//Feiertagskalender.org//Feiertagskalender 1.0//DE
CALSCALE:GREGORIAN
METHOD:PUBLISH
X-WR-CALNAME:Schulferien in Saarland 2026
X-WR-TIMEZONE:Europe/Berlin
BEGIN:VEVENT
DTSTART;VALUE=DATE:20260216
DTEND;VALUE=DATE:20260220
DTSTAMP:20260421T192930Z
UID:FEIERTAGSKALENDER.FERIEN0000002836
CREATED:20260421T192930Z
DESCRIPTION:http://feiertagskalender.org/de/ferien/de-sl/2026/
LAST-MODIFIED:20260421T192930Z
LOCATION:Saarland
SEQUENCE:0
STATUS:CONFIRMED
SUMMARY:Winterferien Saarland
TRANSP:TRANSPARENT
END:VEVENT
BEGIN:VEVENT
DTSTART;VALUE=DATE:20260407
DTEND;VALUE=DATE:20260417
DTSTAMP:20260421T192930Z
UID:FEIERTAGSKALENDER.FERIEN0000002837
CREATED:20260421T192930Z
DESCRIPTION:http://feiertagskalender.org/de/ferien/de-sl/2026/
LAST-MODIFIED:20260421T192930Z
LOCATION:Saarland
SEQUENCE:0
STATUS:CONFIRMED
SUMMARY:Osterferien Saarland
TRANSP:TRANSPARENT
END:VEVENT
BEGIN:VEVENT
DTSTART;VALUE=DATE:20260629
DTEND;VALUE=DATE:20260807
DTSTAMP:20260421T192930Z
UID:FEIERTAGSKALENDER.FERIEN0000002839
CREATED:20260421T192930Z
DESCRIPTION:http://feiertagskalender.org/de/ferien/de-sl/2026/
LAST-MODIFIED:20260421T192930Z
LOCATION:Saarland
SEQUENCE:0
STATUS:CONFIRMED
SUMMARY:Sommerferien Saarland
TRANSP:TRANSPARENT
END:VEVENT
BEGIN:VEVENT
DTSTART;VALUE=DATE:20261005
DTEND;VALUE=DATE:20261016
DTSTAMP:20260421T192930Z
UID:FEIERTAGSKALENDER.FERIEN0000002840
CREATED:20260421T192930Z
DESCRIPTION:http://feiertagskalender.org/de/ferien/de-sl/2026/
LAST-MODIFIED:20260421T192930Z
LOCATION:Saarland
SEQUENCE:0
STATUS:CONFIRMED
SUMMARY:Herbstferien Saarland
TRANSP:TRANSPARENT
END:VEVENT
BEGIN:VEVENT
DTSTART;VALUE=DATE:20261221
DTEND;VALUE=DATE:20261231
DTSTAMP:20260421T192930Z
UID:FEIERTAGSKALENDER.FERIEN0000002841
CREATED:20260421T192930Z
DESCRIPTION:http://feiertagskalender.org/de/ferien/de-sl/2026/
LAST-MODIFIED:20260421T192930Z
LOCATION:Saarland
SEQUENCE:0
STATUS:CONFIRMED
SUMMARY:Weihnachtsferien Saarland
TRANSP:TRANSPARENT
END:VEVENT
END:VCALENDAR