BEGIN:VCALENDAR
VERSION:2.0
PRODID:-//Feiertagskalender.org//Feiertagskalender 1.0//DE
CALSCALE:GREGORIAN
METHOD:PUBLISH
X-WR-CALNAME:Schulferien in Berlin 2022
X-WR-TIMEZONE:Europe/Berlin
BEGIN:VEVENT
DTSTART;VALUE=DATE:20220129
DTEND;VALUE=DATE:20220205
DTSTAMP:20260423T212445Z
UID:FEIERTAGSKALENDER.FERIEN0000002398
CREATED:20260423T212445Z
DESCRIPTION:http://feiertagskalender.org/de/ferien/de-be/2022/
LAST-MODIFIED:20260423T212445Z
LOCATION:Berlin
SEQUENCE:0
STATUS:CONFIRMED
SUMMARY:Winterferien Berlin
TRANSP:TRANSPARENT
END:VEVENT
BEGIN:VEVENT
DTSTART;VALUE=DATE:20220707
DTEND;VALUE=DATE:20220819
DTSTAMP:20260423T212445Z
UID:FEIERTAGSKALENDER.FERIEN0000002401
CREATED:20260423T212445Z
DESCRIPTION:http://feiertagskalender.org/de/ferien/de-be/2022/
LAST-MODIFIED:20260423T212445Z
LOCATION:Berlin
SEQUENCE:0
STATUS:CONFIRMED
SUMMARY:Sommerferien Berlin
TRANSP:TRANSPARENT
END:VEVENT
BEGIN:VEVENT
DTSTART;VALUE=DATE:20221024
DTEND;VALUE=DATE:20221105
DTSTAMP:20260423T212445Z
UID:FEIERTAGSKALENDER.FERIEN0000002402
CREATED:20260423T212445Z
DESCRIPTION:http://feiertagskalender.org/de/ferien/de-be/2022/
LAST-MODIFIED:20260423T212445Z
LOCATION:Berlin
SEQUENCE:0
STATUS:CONFIRMED
SUMMARY:Herbstferien Berlin
TRANSP:TRANSPARENT
END:VEVENT
BEGIN:VEVENT
DTSTART;VALUE=DATE:20221222
DTEND;VALUE=DATE:20230102
DTSTAMP:20260423T212445Z
UID:FEIERTAGSKALENDER.FERIEN0000002403
CREATED:20260423T212445Z
DESCRIPTION:http://feiertagskalender.org/de/ferien/de-be/2022/
LAST-MODIFIED:20260423T212445Z
LOCATION:Berlin
SEQUENCE:0
STATUS:CONFIRMED
SUMMARY:Weihnachtsferien Berlin
TRANSP:TRANSPARENT
END:VEVENT
END:VCALENDAR