BEGIN:VCALENDAR
VERSION:2.0
PRODID:-//Feiertagskalender//Feiertagskalender 1.0//DE
CALSCALE:GREGORIAN
METHOD:PUBLISH
X-WR-CALNAME:Feiertage in Schleswig-Holstein 2030
X-WR-TIMEZONE:Europe/Berlin
BEGIN:VEVENT
DTSTART;VALUE=DATE:20300101
DTEND;VALUE=DATE:20300102
DTSTAMP:20260419T142014Z
UID:FEIERTAGSKALENDERd26c7131fd15e126a9075e16418bd4b5
CREATED:20260419T142014Z
DESCRIPTION:http://feiertagskalender.org/de/feiertage/de-sh/2030/
LAST-MODIFIED:20260419T142014Z
LOCATION:Schleswig-Holstein
SEQUENCE:0
STATUS:CONFIRMED
SUMMARY:Neujahrstag
TRANSP:TRANSPARENT
END:VEVENT
BEGIN:VEVENT
DTSTART;VALUE=DATE:20300419
DTEND;VALUE=DATE:20300420
DTSTAMP:20260419T142014Z
UID:FEIERTAGSKALENDERde85db10b4d52a31cdc5f1a0e7db3ca2
CREATED:20260419T142014Z
DESCRIPTION:http://feiertagskalender.org/de/feiertage/de-sh/2030/
LAST-MODIFIED:20260419T142014Z
LOCATION:Schleswig-Holstein
SEQUENCE:0
STATUS:CONFIRMED
SUMMARY:Karfreitag
TRANSP:TRANSPARENT
END:VEVENT
BEGIN:VEVENT
DTSTART;VALUE=DATE:20300422
DTEND;VALUE=DATE:20300423
DTSTAMP:20260419T142014Z
UID:FEIERTAGSKALENDER5f95dd5664f0574cb01bb9a96b239166
CREATED:20260419T142014Z
DESCRIPTION:http://feiertagskalender.org/de/feiertage/de-sh/2030/
LAST-MODIFIED:20260419T142014Z
LOCATION:Schleswig-Holstein
SEQUENCE:0
STATUS:CONFIRMED
SUMMARY:Ostermontag
TRANSP:TRANSPARENT
END:VEVENT
BEGIN:VEVENT
DTSTART;VALUE=DATE:20300501
DTEND;VALUE=DATE:20300502
DTSTAMP:20260419T142014Z
UID:FEIERTAGSKALENDER299621a714709e9b0c2d96822f754bbf
CREATED:20260419T142014Z
DESCRIPTION:http://feiertagskalender.org/de/feiertage/de-sh/2030/
LAST-MODIFIED:20260419T142014Z
LOCATION:Schleswig-Holstein
SEQUENCE:0
STATUS:CONFIRMED
SUMMARY:Tag der Arbeit
TRANSP:TRANSPARENT
END:VEVENT
BEGIN:VEVENT
DTSTART;VALUE=DATE:20300530
DTEND;VALUE=DATE:20300531
DTSTAMP:20260419T142014Z
UID:FEIERTAGSKALENDER21411fa4a9afcc821d585aabf29baa18
CREATED:20260419T142014Z
DESCRIPTION:http://feiertagskalender.org/de/feiertage/de-sh/2030/
LAST-MODIFIED:20260419T142014Z
LOCATION:Schleswig-Holstein
SEQUENCE:0
STATUS:CONFIRMED
SUMMARY:Christi Himmelfahrt
TRANSP:TRANSPARENT
END:VEVENT
BEGIN:VEVENT
DTSTART;VALUE=DATE:20300610
DTEND;VALUE=DATE:20300611
DTSTAMP:20260419T142014Z
UID:FEIERTAGSKALENDERe58730e06e25dd3fa7b526745852fa85
CREATED:20260419T142014Z
DESCRIPTION:http://feiertagskalender.org/de/feiertage/de-sh/2030/
LAST-MODIFIED:20260419T142014Z
LOCATION:Schleswig-Holstein
SEQUENCE:0
STATUS:CONFIRMED
SUMMARY:Pfingstmontag
TRANSP:TRANSPARENT
END:VEVENT
BEGIN:VEVENT
DTSTART;VALUE=DATE:20301003
DTEND;VALUE=DATE:20301004
DTSTAMP:20260419T142014Z
UID:FEIERTAGSKALENDER125a4a00c31c71ec38079731e208c22a
CREATED:20260419T142014Z
DESCRIPTION:http://feiertagskalender.org/de/feiertage/de-sh/2030/
LAST-MODIFIED:20260419T142014Z
LOCATION:Schleswig-Holstein
SEQUENCE:0
STATUS:CONFIRMED
SUMMARY:Tag der Deutschen Einheit
TRANSP:TRANSPARENT
END:VEVENT
BEGIN:VEVENT
DTSTART;VALUE=DATE:20301031
DTEND;VALUE=DATE:20301101
DTSTAMP:20260419T142014Z
UID:FEIERTAGSKALENDER2fa04a2534f2c4468d171589100be348
CREATED:20260419T142014Z
DESCRIPTION:http://feiertagskalender.org/de/feiertage/de-sh/2030/
LAST-MODIFIED:20260419T142014Z
LOCATION:Schleswig-Holstein
SEQUENCE:0
STATUS:CONFIRMED
SUMMARY:Reformationstag
TRANSP:TRANSPARENT
END:VEVENT
BEGIN:VEVENT
DTSTART;VALUE=DATE:20301225
DTEND;VALUE=DATE:20301226
DTSTAMP:20260419T142014Z
UID:FEIERTAGSKALENDER55fb84b781fe0a28bdf981ef3bc603ef
CREATED:20260419T142014Z
DESCRIPTION:http://feiertagskalender.org/de/feiertage/de-sh/2030/
LAST-MODIFIED:20260419T142014Z
LOCATION:Schleswig-Holstein
SEQUENCE:0
STATUS:CONFIRMED
SUMMARY:1. Weihnachtstag
TRANSP:TRANSPARENT
END:VEVENT
BEGIN:VEVENT
DTSTART;VALUE=DATE:20301226
DTEND;VALUE=DATE:20301227
DTSTAMP:20260419T142014Z
UID:FEIERTAGSKALENDERf3d8b4704eb0c2d8d5be6f9c93ddaa58
CREATED:20260419T142014Z
DESCRIPTION:http://feiertagskalender.org/de/feiertage/de-sh/2030/
LAST-MODIFIED:20260419T142014Z
LOCATION:Schleswig-Holstein
SEQUENCE:0
STATUS:CONFIRMED
SUMMARY:2. Weihnachtstag
TRANSP:TRANSPARENT
END:VEVENT
END:VCALENDAR