BEGIN:VCALENDAR
VERSION:2.0
PRODID:-//Feiertagskalender//Feiertagskalender 1.0//DE
CALSCALE:GREGORIAN
METHOD:PUBLISH
X-WR-CALNAME:Feiertage in Schleswig-Holstein 2026
X-WR-TIMEZONE:Europe/Berlin
BEGIN:VEVENT
DTSTART;VALUE=DATE:20260101
DTEND;VALUE=DATE:20260102
DTSTAMP:20260419T154727Z
UID:FEIERTAGSKALENDER395d00b821c6e0f41af50bd07e60cc5a
CREATED:20260419T154727Z
DESCRIPTION:http://feiertagskalender.org/de/feiertage/de-sh/2026/
LAST-MODIFIED:20260419T154727Z
LOCATION:Schleswig-Holstein
SEQUENCE:0
STATUS:CONFIRMED
SUMMARY:Neujahrstag
TRANSP:TRANSPARENT
END:VEVENT
BEGIN:VEVENT
DTSTART;VALUE=DATE:20260403
DTEND;VALUE=DATE:20260404
DTSTAMP:20260419T154727Z
UID:FEIERTAGSKALENDER348a60fbf6660c0c65084538e7bc33e5
CREATED:20260419T154727Z
DESCRIPTION:http://feiertagskalender.org/de/feiertage/de-sh/2026/
LAST-MODIFIED:20260419T154727Z
LOCATION:Schleswig-Holstein
SEQUENCE:0
STATUS:CONFIRMED
SUMMARY:Karfreitag
TRANSP:TRANSPARENT
END:VEVENT
BEGIN:VEVENT
DTSTART;VALUE=DATE:20260406
DTEND;VALUE=DATE:20260407
DTSTAMP:20260419T154727Z
UID:FEIERTAGSKALENDERa54e75cce3f7701545594a0e4a0b68b2
CREATED:20260419T154727Z
DESCRIPTION:http://feiertagskalender.org/de/feiertage/de-sh/2026/
LAST-MODIFIED:20260419T154727Z
LOCATION:Schleswig-Holstein
SEQUENCE:0
STATUS:CONFIRMED
SUMMARY:Ostermontag
TRANSP:TRANSPARENT
END:VEVENT
BEGIN:VEVENT
DTSTART;VALUE=DATE:20260501
DTEND;VALUE=DATE:20260502
DTSTAMP:20260419T154727Z
UID:FEIERTAGSKALENDER0e390f09cf32f84a8bd8a5874008a886
CREATED:20260419T154727Z
DESCRIPTION:http://feiertagskalender.org/de/feiertage/de-sh/2026/
LAST-MODIFIED:20260419T154727Z
LOCATION:Schleswig-Holstein
SEQUENCE:0
STATUS:CONFIRMED
SUMMARY:Tag der Arbeit
TRANSP:TRANSPARENT
END:VEVENT
BEGIN:VEVENT
DTSTART;VALUE=DATE:20260514
DTEND;VALUE=DATE:20260515
DTSTAMP:20260419T154727Z
UID:FEIERTAGSKALENDERf7070b0609ab2ea5bd58f56f8f4f7688
CREATED:20260419T154727Z
DESCRIPTION:http://feiertagskalender.org/de/feiertage/de-sh/2026/
LAST-MODIFIED:20260419T154727Z
LOCATION:Schleswig-Holstein
SEQUENCE:0
STATUS:CONFIRMED
SUMMARY:Christi Himmelfahrt
TRANSP:TRANSPARENT
END:VEVENT
BEGIN:VEVENT
DTSTART;VALUE=DATE:20260525
DTEND;VALUE=DATE:20260526
DTSTAMP:20260419T154727Z
UID:FEIERTAGSKALENDER0dc0808fd52a76cbafe0685b01486c88
CREATED:20260419T154727Z
DESCRIPTION:http://feiertagskalender.org/de/feiertage/de-sh/2026/
LAST-MODIFIED:20260419T154727Z
LOCATION:Schleswig-Holstein
SEQUENCE:0
STATUS:CONFIRMED
SUMMARY:Pfingstmontag
TRANSP:TRANSPARENT
END:VEVENT
BEGIN:VEVENT
DTSTART;VALUE=DATE:20261003
DTEND;VALUE=DATE:20261004
DTSTAMP:20260419T154727Z
UID:FEIERTAGSKALENDER07cce0fd2a02dd8b3ecd3df16a16fcc8
CREATED:20260419T154727Z
DESCRIPTION:http://feiertagskalender.org/de/feiertage/de-sh/2026/
LAST-MODIFIED:20260419T154727Z
LOCATION:Schleswig-Holstein
SEQUENCE:0
STATUS:CONFIRMED
SUMMARY:Tag der Deutschen Einheit
TRANSP:TRANSPARENT
END:VEVENT
BEGIN:VEVENT
DTSTART;VALUE=DATE:20261031
DTEND;VALUE=DATE:20261101
DTSTAMP:20260419T154727Z
UID:FEIERTAGSKALENDER35ec8c24261f405a72a8bcdea87e9cd3
CREATED:20260419T154727Z
DESCRIPTION:http://feiertagskalender.org/de/feiertage/de-sh/2026/
LAST-MODIFIED:20260419T154727Z
LOCATION:Schleswig-Holstein
SEQUENCE:0
STATUS:CONFIRMED
SUMMARY:Reformationstag
TRANSP:TRANSPARENT
END:VEVENT
BEGIN:VEVENT
DTSTART;VALUE=DATE:20261225
DTEND;VALUE=DATE:20261226
DTSTAMP:20260419T154727Z
UID:FEIERTAGSKALENDER3e881040517deb72e9f5dc1dd632c96f
CREATED:20260419T154727Z
DESCRIPTION:http://feiertagskalender.org/de/feiertage/de-sh/2026/
LAST-MODIFIED:20260419T154727Z
LOCATION:Schleswig-Holstein
SEQUENCE:0
STATUS:CONFIRMED
SUMMARY:1. Weihnachtstag
TRANSP:TRANSPARENT
END:VEVENT
BEGIN:VEVENT
DTSTART;VALUE=DATE:20261226
DTEND;VALUE=DATE:20261227
DTSTAMP:20260419T154727Z
UID:FEIERTAGSKALENDER1971f72449269833c741208219c61201
CREATED:20260419T154727Z
DESCRIPTION:http://feiertagskalender.org/de/feiertage/de-sh/2026/
LAST-MODIFIED:20260419T154727Z
LOCATION:Schleswig-Holstein
SEQUENCE:0
STATUS:CONFIRMED
SUMMARY:2. Weihnachtstag
TRANSP:TRANSPARENT
END:VEVENT
END:VCALENDAR